BEGIN:VCALENDAR
VERSION:2.0
PRODID:-//South Puget Sound Al-Anon - ECPv6.15.20//NONSGML v1.0//EN
CALSCALE:GREGORIAN
METHOD:PUBLISH
X-WR-CALNAME:South Puget Sound Al-Anon
X-ORIGINAL-URL:https://southpugetsoundal-anon.org
X-WR-CALDESC:Events for South Puget Sound Al-Anon
REFRESH-INTERVAL;VALUE=DURATION:PT1H
X-Robots-Tag:noindex
X-PUBLISHED-TTL:PT1H
BEGIN:VTIMEZONE
TZID:America/Los_Angeles
BEGIN:DAYLIGHT
TZOFFSETFROM:-0800
TZOFFSETTO:-0700
TZNAME:PDT
DTSTART:20250309T100000
END:DAYLIGHT
BEGIN:STANDARD
TZOFFSETFROM:-0700
TZOFFSETTO:-0800
TZNAME:PST
DTSTART:20251102T090000
END:STANDARD
BEGIN:DAYLIGHT
TZOFFSETFROM:-0800
TZOFFSETTO:-0700
TZNAME:PDT
DTSTART:20260308T100000
END:DAYLIGHT
BEGIN:STANDARD
TZOFFSETFROM:-0700
TZOFFSETTO:-0800
TZNAME:PST
DTSTART:20261101T090000
END:STANDARD
BEGIN:DAYLIGHT
TZOFFSETFROM:-0800
TZOFFSETTO:-0700
TZNAME:PDT
DTSTART:20270314T100000
END:DAYLIGHT
BEGIN:STANDARD
TZOFFSETFROM:-0700
TZOFFSETTO:-0800
TZNAME:PST
DTSTART:20271107T090000
END:STANDARD
END:VTIMEZONE
BEGIN:VEVENT
DTSTART;TZID=America/Los_Angeles:20260126T180000
DTEND;TZID=America/Los_Angeles:20260126T190000
DTSTAMP:20260420T045640
CREATED:20260119T201108Z
LAST-MODIFIED:20260119T201108Z
UID:2238-1769450400-1769454000@southpugetsoundal-anon.org
SUMMARY:*NEW MEETING* Brighter Life AFG
DESCRIPTION:*NEW MEETING* Brighter Life AFG \nMondays at 6pm \nChehalis United Methodist Church \n16 S. Market Blvd\, Chehalis\, WA \nCorner of S. Market Blvd and E Main St. Entrances to parking are found at both E Main St. and SE 1st St. behind the church. Meeting is located downstairs.
URL:https://southpugetsoundal-anon.org/event/new-meeting-brighter-life-afg-2/
LOCATION:Chehalis United Methodist Church\, 16 S. Market Blvd\, Chehalis\, WA\, United States
END:VEVENT
END:VCALENDAR