BEGIN:VCALENDAR
VERSION:2.0
PRODID:-//South Puget Sound Al-Anon - ECPv6.15.20//NONSGML v1.0//EN
CALSCALE:GREGORIAN
METHOD:PUBLISH
X-WR-CALNAME:South Puget Sound Al-Anon
X-ORIGINAL-URL:https://southpugetsoundal-anon.org
X-WR-CALDESC:Events for South Puget Sound Al-Anon
REFRESH-INTERVAL;VALUE=DURATION:PT1H
X-Robots-Tag:noindex
X-PUBLISHED-TTL:PT1H
BEGIN:VTIMEZONE
TZID:America/Los_Angeles
BEGIN:DAYLIGHT
TZOFFSETFROM:-0800
TZOFFSETTO:-0700
TZNAME:PDT
DTSTART:20250309T100000
END:DAYLIGHT
BEGIN:STANDARD
TZOFFSETFROM:-0700
TZOFFSETTO:-0800
TZNAME:PST
DTSTART:20251102T090000
END:STANDARD
BEGIN:DAYLIGHT
TZOFFSETFROM:-0800
TZOFFSETTO:-0700
TZNAME:PDT
DTSTART:20260308T100000
END:DAYLIGHT
BEGIN:STANDARD
TZOFFSETFROM:-0700
TZOFFSETTO:-0800
TZNAME:PST
DTSTART:20261101T090000
END:STANDARD
BEGIN:DAYLIGHT
TZOFFSETFROM:-0800
TZOFFSETTO:-0700
TZNAME:PDT
DTSTART:20270314T100000
END:DAYLIGHT
BEGIN:STANDARD
TZOFFSETFROM:-0700
TZOFFSETTO:-0800
TZNAME:PST
DTSTART:20271107T090000
END:STANDARD
END:VTIMEZONE
BEGIN:VEVENT
DTSTART;TZID=America/Los_Angeles:20260314T090000
DTEND;TZID=America/Los_Angeles:20260314T160000
DTSTAMP:20260420T023213
CREATED:20260314T164636Z
LAST-MODIFIED:20260314T181318Z
UID:2273-1773478800-1773504000@southpugetsoundal-anon.org
SUMMARY:AMIAS Training
DESCRIPTION:Al-Anon Members Involved in Alateen Service — better known by their acronym AMIAS — are members of Al-Anon who provide guidance and support to Alateens at meetings and events. Every Alateen meeting requires the presence of at least two AMIAS. AMIAS are required to have two years in Al-Anon\, required to take a three-hour training class every two years\, and pass a background check every year. \nPlease consider serving our Alateens by attending a training session to become as AMIAS.
URL:https://southpugetsoundal-anon.org/event/amias-training/
LOCATION:Zoom
ATTACH;FMTTYPE=image/jpeg:https://southpugetsoundal-anon.org/wp-content/uploads/2026/03/AMIAS-Training-Jan-2026-2.jpg
END:VEVENT
BEGIN:VEVENT
DTSTART;TZID=America/Los_Angeles:20260321T173000
DTEND;TZID=America/Los_Angeles:20260321T210000
DTSTAMP:20260420T023213
CREATED:20260119T193521Z
LAST-MODIFIED:20260119T193702Z
UID:2220-1774114200-1774126800@southpugetsoundal-anon.org
SUMMARY:Capitol Jamboree 2026 Kickoff
DESCRIPTION:Join us for sweet and savory treats and speakers as we gear up for the 2026 Capitol Jamboree. The Capitol Jamboree is a joint AA/Al-Anon conference of workshops and events that will take place this summer 2026. Tickets available now for the kick-off event\, only $10. \nBuy Tickets Here
URL:https://southpugetsoundal-anon.org/event/capitol-jamboree-2026-kickoff/
LOCATION:South Puget Sound Community College\, 4220 6th Ave SE\, Lacey\, WA\, 98503\, United States
ATTACH;FMTTYPE=image/avif:https://southpugetsoundal-anon.org/wp-content/uploads/2026/01/2026-Kickoff-Save-the-Date.png.avif
END:VEVENT
BEGIN:VEVENT
DTSTART;TZID=America/Los_Angeles:20260327T180000
DTEND;TZID=America/Los_Angeles:20260328T170000
DTSTAMP:20260420T023213
CREATED:20260119T195051Z
LAST-MODIFIED:20260314T165405Z
UID:2226-1774634400-1774717200@southpugetsoundal-anon.org
SUMMARY:WA Area Pre-Con 2026
DESCRIPTION:PreCon is a business meeting of the WA Area. All Area Officers\, Coordinators\, Liaisons\, District Representatives\, and Group Representatives attend. All Al-Anon members are welcome. Everyone has a voice\, but only GRs may vote. Online and In Person.
URL:https://southpugetsoundal-anon.org/event/wa-area-pre-con-2026/
LOCATION:Holiday Inn Bothell\, 3850 Monte Villa Parkway\, Bothell\, WA\, 98021\, United States
ATTACH;FMTTYPE=image/jpeg:https://southpugetsoundal-anon.org/wp-content/uploads/2026/01/WA-PreCon-2026-v2.jpg
END:VEVENT
BEGIN:VEVENT
DTSTART;TZID=America/Los_Angeles:20260328T190000
DTEND;TZID=America/Los_Angeles:20260328T200000
DTSTAMP:20260420T023213
CREATED:20260314T165621Z
LAST-MODIFIED:20260314T165711Z
UID:2282-1774724400-1774728000@southpugetsoundal-anon.org
SUMMARY:WA Outreach Conversations
DESCRIPTION:An online gathering of Al-Anon/ Alateen members who’d like to discuss reaching out with help and hope. Online Only. \nZoom Info: Meeting ID 832 6080 7124  Passcode 640202
URL:https://southpugetsoundal-anon.org/event/wa-outreach-conversations/
LOCATION:Zoom
ATTACH;FMTTYPE=image/jpeg:https://southpugetsoundal-anon.org/wp-content/uploads/2026/03/WA-Area-Outreach-Radio-Hour-2.jpg
END:VEVENT
END:VCALENDAR